BEGIN:VCALENDAR
VERSION:2.0
PRODID:-//ChamberMaster//Event Calendar 2.0//EN
METHOD:PUBLISH
X-PUBLISHED-TTL:P3D
REFRESH-INTERVAL:P3D
CALSCALE:GREGORIAN
BEGIN:VEVENT
DTSTART:20211217T200000Z
DTEND:20211217T220000Z
X-MICROSOFT-CDO-ALLDAYEVENT:FALSE
SUMMARY:Christmas & Installation Luncheon - Annual Member Meeting
DESCRIPTION:The Chamber's Annual Christmas & Installation Luncheon\n\nJoin us as we celebrate the season and our 2022 Board of Directors.
X-ALT-DESC;FMTTYPE=text/html:<span style="font-size:20px\;"><span style="color:#B22222\;"><span style="font-family:verdana\;"><strong>The Chamber&#39\;s Annual Christmas &amp\; Installation Luncheon<br />\nJoin us as we celebrate the season and our 2022 Board of Directors.&nbsp\;</strong></span></span></span>&nbsp\;&nbsp\;&nbsp\;&nbsp\;&nbsp\;&nbsp\;&nbsp\;
LOCATION:Founders Village
UID:e.2030.5410
SEQUENCE:3
DTSTAMP:20260421T033218Z
URL:http://business.fvchamber.com/events/details/christmas-installation-luncheon-annual-member-meeting-5410
END:VEVENT

END:VCALENDAR
