BEGIN:VCALENDAR
VERSION:2.0
PRODID:-//ChamberMaster//Event Calendar 2.0//EN
METHOD:PUBLISH
X-PUBLISHED-TTL:P3D
REFRESH-INTERVAL:P3D
CALSCALE:GREGORIAN
BEGIN:VEVENT
DTSTART:20211211T180000Z
DTEND:20211211T200000Z
X-MICROSOFT-CDO-ALLDAYEVENT:FALSE
SUMMARY:Christmas in the Gazebo
DESCRIPTION:Join the Fountain Valley Historical Society's 38th Annual Christmas in the Gazebo. There will be Crafters & Vendors Village\, Holiday Music\, Fun selfie photo stations throughout the park\, food\, and fun.
X-ALT-DESC;FMTTYPE=text/html:Join the Fountain Valley Historical Society&#39\;s 38th Annual Christmas in the Gazebo. There will be Crafters &amp\; Vendors Village\, Holiday Music\, Fun selfie photo stations throughout the park\, food\, and fun.
LOCATION:Heritage Park 17635 Los Alamos St.\, Fountain Valley\, CA 92708
UID:e.2030.5409
SEQUENCE:3
DTSTAMP:20260421T032916Z
URL:http://business.fvchamber.com/events/details/christmas-in-the-gazebo-5409
END:VEVENT

END:VCALENDAR
