BEGIN:VCALENDAR
VERSION:2.0
PRODID:-//ChamberMaster//Event Calendar 2.0//EN
METHOD:PUBLISH
X-PUBLISHED-TTL:P3D
REFRESH-INTERVAL:P3D
CALSCALE:GREGORIAN
BEGIN:VEVENT
DTSTART:20220111T190000Z
DTEND:20220111T200000Z
X-MICROSOFT-CDO-ALLDAYEVENT:FALSE
SUMMARY:Chop Stop Ribbon Cutting
DESCRIPTION:Start your year off right by joining us to celebrate Chop Stops\, Ribbon Cutting\, in Fountain Valley!
X-ALT-DESC;FMTTYPE=text/html:<span style="color:#008000\;"><span style="font-size:20px\;"><span style="font-family:verdana\;">Start your year off right by joining us to celebrate Chop Stops\, Ribbon Cutting\, in Fountain Valley!</span></span></span>
LOCATION:18515 Brookhurst St. Fountain Valley\, CA 92708
UID:e.2030.5421
SEQUENCE:3
DTSTAMP:20260421T014605Z
URL:http://business.fvchamber.com/events/details/chop-stop-ribbon-cutting-5421
END:VEVENT

END:VCALENDAR
