BEGIN:VCALENDAR
VERSION:2.0
PRODID:-//ChamberMaster//Event Calendar 2.0//EN
METHOD:PUBLISH
X-PUBLISHED-TTL:P3D
REFRESH-INTERVAL:P3D
CALSCALE:GREGORIAN
BEGIN:VEVENT
DTSTART;VALUE=DATE:20161223
DTEND;VALUE=DATE:20161224
TRANSP:TRANSPARENT
X-MICROSOFT-CDO-ALLDAYEVENT:TRUE
SUMMARY:Chamber Office Closed thru 12/30/2016
DESCRIPTION:Chamber Office will be closed for the Holidays\n\nDecember 23rd at 10am thru December 30th
X-ALT-DESC;FMTTYPE=text/html:<span style="font-size:16px\;"><strong><span style="color:#FF0000\;">Chamber Office will be closed for the Holidays</span><br />\n<em><span style="font-size:14px\;">December 23rd at 10am thru December 30th</span></em></strong></span>
LOCATION:
UID:e.2030.2346
SEQUENCE:3
DTSTAMP:20260425T034210Z
URL:http://business.fvchamber.com/events/details/chamber-office-closed-thru-12-30-2016-12-23-2016-2346
END:VEVENT

END:VCALENDAR
