BEGIN:VCALENDAR
VERSION:2.0
PRODID:-//ChamberMaster//Event Calendar 2.0//EN
METHOD:PUBLISH
X-PUBLISHED-TTL:P3D
REFRESH-INTERVAL:P3D
CALSCALE:GREGORIAN
BEGIN:VEVENT
DTSTART:20181221T200000Z
DTEND:20190102T160000Z
X-MICROSOFT-CDO-ALLDAYEVENT:FALSE
SUMMARY:Chamber Office Closed through 1/1/19
DESCRIPTION:Chamber Office Closed for Holidays\n\nDecember 21st at noon through January 1\, 2019
X-ALT-DESC;FMTTYPE=text/html:Chamber Office Closed for Holidays<br />\nDecember 21st at noon through January 1\, 2019
LOCATION:
UID:e.2030.4378
SEQUENCE:3
DTSTAMP:20260423T143306Z
URL:http://business.fvchamber.com/events/details/chamber-office-closed-through-1-1-19-4378
END:VEVENT

END:VCALENDAR
