BEGIN:VCALENDAR
VERSION:2.0
PRODID:-//ChamberMaster//Event Calendar 2.0//EN
METHOD:PUBLISH
X-PUBLISHED-TTL:P3D
REFRESH-INTERVAL:P3D
CALSCALE:GREGORIAN
BEGIN:VEVENT
DTSTART:20171222T200000Z
DTEND:20180102T160000Z
X-MICROSOFT-CDO-ALLDAYEVENT:FALSE
SUMMARY:Chamber Office Closed through 1/1/18
DESCRIPTION:Chamber Office Closed thru 1/1/18
X-ALT-DESC;FMTTYPE=text/html:<span style="font-size:14px\;"><strong>Chamber Office Closed thru 1/1/18</strong></span>
LOCATION:
UID:e.2030.4379
SEQUENCE:3
DTSTAMP:20260424T072216Z
URL:http://business.fvchamber.com/events/details/chamber-office-closed-through-1-1-18-4379
END:VEVENT

END:VCALENDAR
