BEGIN:VCALENDAR
VERSION:2.0
PRODID:-//ChamberMaster//Event Calendar 2.0//EN
METHOD:PUBLISH
X-PUBLISHED-TTL:P3D
REFRESH-INTERVAL:P3D
CALSCALE:GREGORIAN
BEGIN:VEVENT
DTSTART:20180327T183000Z
DTEND:20180327T203000Z
X-MICROSOFT-CDO-ALLDAYEVENT:FALSE
SUMMARY:Chamber Non-Profit Expo Luncheon
DESCRIPTION:Chamber Non-Profit Expo Luncheon\n\nSponsorships Available
X-ALT-DESC;FMTTYPE=text/html:<span style="font-size:14px\;"><strong><span style="font-size:16px\;">Chamber Non-Profit Expo Luncheon<br />\n<span style="font-size:14px\;"><em>Sponsorships Available</em></span></span></strong></span>
LOCATION:Mile Square Golf Course Banquet Room 10401 Warner Ave. Fountain Valley
UID:e.2030.4023
SEQUENCE:3
DTSTAMP:20260424T051641Z
URL:http://business.fvchamber.com/events/details/chamber-non-profit-expo-luncheon-4023
END:VEVENT

END:VCALENDAR
