BEGIN:VCALENDAR
VERSION:2.0
PRODID:-//ChamberMaster//Event Calendar 2.0//EN
METHOD:PUBLISH
X-PUBLISHED-TTL:P3D
REFRESH-INTERVAL:P3D
CALSCALE:GREGORIAN
BEGIN:VEVENT
DTSTART:20170328T183000Z
DTEND:20170328T203000Z
X-MICROSOFT-CDO-ALLDAYEVENT:FALSE
SUMMARY:Chamber Luncheon
DESCRIPTION:Chamber Luncheon\n\nSponsored by Republic Services\n\n\n\nRethink Food Waste\n\npresented by Michelle Clark\, Republic Services Municipal Services Manager
X-ALT-DESC;FMTTYPE=text/html:<span style="font-size:18px\;"><strong>Chamber Luncheon</strong></span><br />\n<span style="font-size:16px\;"><em><strong>Sponsored by Republic Services<br />\n<br />\nRethink Food Waste<br />\npresented by Michelle Clark\, Republic Services Municipal Services Manager</strong></em></span>
LOCATION:Mile Square Golf Course Banquet Room 10401 Warner Avenue Fountain Valley
UID:e.2030.3874
SEQUENCE:3
DTSTAMP:20260424T230605Z
URL:http://business.fvchamber.com/events/details/chamber-luncheon-3874
END:VEVENT

END:VCALENDAR
