BEGIN:VCALENDAR
VERSION:2.0
PRODID:-//ChamberMaster//Event Calendar 2.0//EN
METHOD:PUBLISH
X-PUBLISHED-TTL:P3D
REFRESH-INTERVAL:P3D
CALSCALE:GREGORIAN
BEGIN:VEVENT
DTSTART:20170926T183000Z
DTEND:20170926T200000Z
X-MICROSOFT-CDO-ALLDAYEVENT:FALSE
SUMMARY:Chamber Luncheon
DESCRIPTION:What the Health?!?\n\na discussion on the direction of Healthcare (both on a Federal & State level)\n\nChamber Luncheon
X-ALT-DESC;FMTTYPE=text/html:<span style="font-size:18px\;"><strong>What the Health?!?</strong><br />\n<span style="font-size:12px\;">a discussion on the direction of Healthcare (both on a Federal &amp\; State level)</span><br />\n<strong>Chamber Luncheon</strong></span>
LOCATION:Claim Jumper Restaurant Banquet Room 18050 Brookhurst St. Fountain Valley
UID:e.2030.4017
SEQUENCE:3
DTSTAMP:20260424T142125Z
URL:http://business.fvchamber.com/events/details/chamber-luncheon-09-26-2017-4017
END:VEVENT

END:VCALENDAR
