BEGIN:VCALENDAR
VERSION:2.0
PRODID:-//ChamberMaster//Event Calendar 2.0//EN
METHOD:PUBLISH
X-PUBLISHED-TTL:P3D
REFRESH-INTERVAL:P3D
CALSCALE:GREGORIAN
BEGIN:VEVENT
DTSTART:20160823T183000Z
DTEND:20160823T200000Z
X-MICROSOFT-CDO-ALLDAYEVENT:FALSE
SUMMARY:Chamber Luncheon
DESCRIPTION:Summer Luncheon Series\n\nCoastline Community College\n\npresents their\n\nPromise Scholarship Program
X-ALT-DESC;FMTTYPE=text/html:<strong><span style="font-size:12px\;"><em>Summer Luncheon Series</em></span><br />\n<span style="font-size:16px\;">Coastline Community College</span><br />\n<em>presents their</em><br />\n<span style="font-size:16px\;">Promise Scholarship Program</span></strong>
LOCATION:Stonefire Grill 18727 Brookhurst St. Fountain Valley
UID:e.2030.2331
SEQUENCE:3
DTSTAMP:20260425T111548Z
URL:http://business.fvchamber.com/events/details/chamber-luncheon-08-23-2016-2331
END:VEVENT

END:VCALENDAR
