BEGIN:VCALENDAR
VERSION:2.0
PRODID:-//ChamberMaster//Event Calendar 2.0//EN
METHOD:PUBLISH
X-PUBLISHED-TTL:P3D
REFRESH-INTERVAL:P3D
CALSCALE:GREGORIAN
BEGIN:VEVENT
DTSTART:20160726T183000Z
DTEND:20160726T200000Z
X-MICROSOFT-CDO-ALLDAYEVENT:FALSE
SUMMARY:Chamber Luncheon
DESCRIPTION:Summer Series Chamber Luncheon\n\nRegistrar of Voters\n\n2016 Presidential Election: Behind the Scenes and More\n\npresented by Neal Kelley\n\nSponsored by Alex A. Accetta CPA & Associates
X-ALT-DESC;FMTTYPE=text/html:<em><strong>Summer Series Chamber Luncheon</strong></em><br />\n<span style="font-size:16px\;"><strong>Registrar of Voters<br />\n2016 Presidential Election: Behind the Scenes and More</strong></span><br />\npresented by Neal Kelley<br />\n<span style="font-size:14px\;"><em>Sponsored by Alex A. Accetta CPA &amp\; Associates</em></span>
LOCATION:Please note the change in venue for July David L. Baker Memorial Golf Course Banquet Room 10410 Edinger Ave. Fountain Valley
UID:e.2030.2330
SEQUENCE:3
DTSTAMP:20260425T111550Z
URL:http://business.fvchamber.com/events/details/chamber-luncheon-07-26-2016-2330
END:VEVENT

END:VCALENDAR
