BEGIN:VCALENDAR
VERSION:2.0
PRODID:-//ChamberMaster//Event Calendar 2.0//EN
METHOD:PUBLISH
X-PUBLISHED-TTL:P3D
REFRESH-INTERVAL:P3D
CALSCALE:GREGORIAN
BEGIN:VEVENT
DTSTART:20170725T183000Z
DTEND:20170725T160000Z
X-MICROSOFT-CDO-ALLDAYEVENT:FALSE
SUMMARY:Chamber Luncheon
DESCRIPTION:Chamber Luncheon\n\nBehind the Scenes with Clerk Recorder Hugh Nguyen
X-ALT-DESC;FMTTYPE=text/html:<span style="font-size:18px\;"><strong>Chamber Luncheon</strong></span><br />\nBehind the Scenes with Clerk Recorder Hugh Nguyen&nbsp\;
LOCATION:Orange County Realtors 10540 Talbert Ave.\, #225 Fountain Valley
UID:e.2030.4015
SEQUENCE:3
DTSTAMP:20260424T171537Z
URL:http://business.fvchamber.com/events/details/chamber-luncheon-07-25-2017-4015
END:VEVENT

END:VCALENDAR
