BEGIN:VCALENDAR
VERSION:2.0
PRODID:-//ChamberMaster//Event Calendar 2.0//EN
METHOD:PUBLISH
X-PUBLISHED-TTL:P3D
REFRESH-INTERVAL:P3D
CALSCALE:GREGORIAN
BEGIN:VEVENT
DTSTART:20180731T183000Z
DTEND:20180731T200000Z
X-MICROSOFT-CDO-ALLDAYEVENT:FALSE
SUMMARY:Chamber Networking Luncheon
DESCRIPTION:Chamber Networking Luncheon\n\n"Beyond the Business Card" -\n\nHow many can you remember?\n\nSponsored by Prana Health Chiropractic
X-ALT-DESC;FMTTYPE=text/html:<span style="font-size:14px\;"><strong><span style="font-size:16px\;">Chamber Networking Luncheon</span></strong><br />\n<span style="font-size:12px\;"><span style="font-size:14px\;">&quot\;Beyond the Business Card&quot\; </span>-</span><br />\n<em>How many can you remember?<br />\nSponsored by Prana Health Chiropractic</em></span>
LOCATION:Stonefire Grill 18727 Brookhurst St. Fountain Valley
UID:e.2030.4027
SEQUENCE:3
DTSTAMP:20260423T221044Z
URL:http://business.fvchamber.com/events/details/chamber-luncheon-07-24-2018-4027
END:VEVENT

END:VCALENDAR
