BEGIN:VCALENDAR
VERSION:2.0
PRODID:-//ChamberMaster//Event Calendar 2.0//EN
METHOD:PUBLISH
X-PUBLISHED-TTL:P3D
REFRESH-INTERVAL:P3D
CALSCALE:GREGORIAN
BEGIN:VEVENT
DTSTART:20180424T183000Z
DTEND:20180424T203000Z
X-MICROSOFT-CDO-ALLDAYEVENT:FALSE
SUMMARY:Chamber Luncheon
DESCRIPTION:Networking Chamber Luncheon\n\nFeaturing Guest Speaker: Zafar Brooks\n\nDirector\, Corporate Social Responsibility and Diversity Inclusion\n\n Hyundai Motor America
X-ALT-DESC;FMTTYPE=text/html:<span style="font-size:14px\;"><strong><span style="font-size:16px\;">Networking Chamber Luncheon<br />\n<em><span style="font-size:14px\;">Featuring Guest Speaker: Zafar Brooks</span></em></span></strong></span><br />\nDirector\, Corporate Social Responsibility and Diversity Inclusion<br />\n&#8203\;<span style="font-size:14px\;"><strong><span style="font-size:16px\;"><em><span style="font-size:14px\;">Hyundai</span></em></span></strong></span><span style="font-size:14px\;"><strong><span style="font-size:16px\;"><em><span style="font-size:14px\;"> Motor America</span></em></span></strong></span>
LOCATION:Mile Square Golf Course Banquet Room 10401 Warner Ave. Fountain Valley
UID:e.2030.4024
SEQUENCE:3
DTSTAMP:20260424T021822Z
URL:http://business.fvchamber.com/events/details/chamber-luncheon-04-24-2018-4024
END:VEVENT

END:VCALENDAR
