BEGIN:VCALENDAR
VERSION:2.0
PRODID:-//ChamberMaster//Event Calendar 2.0//EN
METHOD:PUBLISH
X-PUBLISHED-TTL:P3D
REFRESH-INTERVAL:P3D
CALSCALE:GREGORIAN
BEGIN:VEVENT
DTSTART:20160322T183000Z
DTEND:20160322T203000Z
X-MICROSOFT-CDO-ALLDAYEVENT:FALSE
SUMMARY:Chamber Luncheon
DESCRIPTION:Rainbow Environmental Services\n\nRecycle Chamber Luncheon\n\n Food\, Wonderful Fabulous Food\, Don't Waste It\, Recycle It says State of California
X-ALT-DESC;FMTTYPE=text/html:<p><span style="font-size:16px\;"><strong>Rainbow Environmental Services<br />\nRecycle Chamber Luncheon</strong></span><br />\n<em>&nbsp\;Food\, Wonderful Fabulous Food\, Don&rsquo\;t Waste It\, Recycle It says State of California</em></p>\n
LOCATION:
UID:e.2030.2314
SEQUENCE:3
DTSTAMP:20260425T172424Z
URL:http://business.fvchamber.com/events/details/chamber-luncheon-03-22-2016-2314
END:VEVENT

END:VCALENDAR
