BEGIN:VCALENDAR
VERSION:2.0
PRODID:-//ChamberMaster//Event Calendar 2.0//EN
METHOD:PUBLISH
X-PUBLISHED-TTL:P3D
REFRESH-INTERVAL:P3D
CALSCALE:GREGORIAN
BEGIN:VEVENT
DTSTART:20180522T183000Z
DTEND:20180522T203000Z
X-MICROSOFT-CDO-ALLDAYEVENT:FALSE
SUMMARY:Chamber Home-Based Business Expo Luncheon
DESCRIPTION:Chamber Home-Based Business Expo Luncheon\n\nKeynote Speaker: Sheree Coates from the Small Business Administration Topic: "So You'd Like to Start a Home-based Business: Now What?"\n\nSponsored by Theresa Simes Insurance Agency-Farmers\n\n\n\nParticipating Home Based Business Members:\n\nCarmela Ryan\, Realtor\, Realty One Group\n\nCaroline Witham\, Realtor\, Keller Williams\n\nCaroline Witham\, Baubles and Steam Emporium\, Steampunk Jewely & Accessories\n\nDave Leonard\, strategy driven website design\n\nRay "Jack" Toledo\, Jack of All Trades\, Handyman Service\n\nJason Seifert\, JMS Technical Solutions\n\nChelsea Sievers\, Level 27 Media\n\nSherry Hardesty\, Walk\, Wine & Dine fabulous food tour\n\nMartha Gibson\, WOR(I)D GN\, health monitoring device\n\nSusan Lowe\, Gold Canyon Candles
X-ALT-DESC;FMTTYPE=text/html:<span style="font-size:14px\;"><strong><span style="font-size:16px\;">Chamber Home-Based Business Expo Luncheon</span></strong><br />\n<span style="font-size:16px\;"><span style="font-size:14px\;">Keynote Speaker: Sheree Coates from the Small Business Administration Topic: <b>&quot\;</b></span></span><em>So You&rsquo\;d Like to Start a Home-based Business: Now What?&quot\;<br />\nSponsored by Theresa Simes Insurance Agency-Farmers</em></span><br />\n<br />\n<strong>Participating Home Based Business Members</strong>:<br />\n<em><strong>Carmela Ryan\, Realtor\, Realty One Group<br />\nCaroline Witham\, Realtor\, Keller Williams<br />\nCaroline Witham\, Baubles and Steam Emporium\, Steampunk Jewely &amp\; Accessories<br />\nDave Leonard\, strategy driven website design<br />\nRay &quot\;Jack&quot\; Toledo\, Jack of All Trades\, Handyman Service<br />\nJason Seifert\, JMS Technical Solutions<br />\nChelsea Sievers\, Level 27 Media<br />\nSherry Hardesty\, Walk\, Wine &amp\; Dine fabulous food tour<br />\nMartha Gibson\,&nbsp\;WOR(I)D GN\, health monitoring device<br />\nSusan Lowe\, Gold Canyon Candles</strong></em><br />\n&nbsp\;
LOCATION:Mile Square Golf Course Banquet Room 10401 Slater Ave. Fountain Valley
UID:e.2030.4025
SEQUENCE:3
DTSTAMP:20260424T010818Z
URL:http://business.fvchamber.com/events/details/chamber-home-based-business-expo-luncheon-4025
END:VEVENT

END:VCALENDAR
