BEGIN:VCALENDAR
VERSION:2.0
PRODID:-//ChamberMaster//Event Calendar 2.0//EN
METHOD:PUBLISH
X-PUBLISHED-TTL:P3D
REFRESH-INTERVAL:P3D
CALSCALE:GREGORIAN
BEGIN:VEVENT
DTSTART:20181211T190000Z
DTEND:20181211T220000Z
X-MICROSOFT-CDO-ALLDAYEVENT:FALSE
SUMMARY:Chamber Holiday Luncheon & Gift Boutique
DESCRIPTION:Chamber Holiday Luncheon & Gift Boutique\n\n6 ft. table $40.00 (includes 1 lunch)\n\n3 ft. table $20.00\n\nLimited to first 9 to register
X-ALT-DESC;FMTTYPE=text/html:<span style="font-size:14px\;"><strong><span style="font-size:16px\;">Chamber Holiday Luncheon &amp\; Gift Boutique<br />\n<span style="font-size:14px\;">6 ft. table $40.00 (includes 1 lunch)<br />\n3 ft. table $20.00<br />\n<em>Limited to first 9 to register</em></span></span></strong></span>
LOCATION:Mile Square Golf Course Banquet Room 10401 Warner Ave. Fountain Valley
UID:e.2030.4032
SEQUENCE:3
DTSTAMP:20260423T144107Z
URL:http://business.fvchamber.com/events/details/chamber-holiday-luncheon-gift-boutique-4032
END:VEVENT

END:VCALENDAR
