BEGIN:VCALENDAR
VERSION:2.0
PRODID:-//ChamberMaster//Event Calendar 2.0//EN
METHOD:PUBLISH
X-PUBLISHED-TTL:P3D
REFRESH-INTERVAL:P3D
CALSCALE:GREGORIAN
BEGIN:VEVENT
DTSTART:20151208T213000Z
DTEND:20151208T223000Z
X-MICROSOFT-CDO-ALLDAYEVENT:FALSE
SUMMARY:Chamber Events Committee
DESCRIPTION:Chamber Events Committee\n\nSpecifically Luncheons & Breakfasts
X-ALT-DESC;FMTTYPE=text/html:<span style="font-size:16px\;"><span style="font-family: arial\;"><strong>Chamber Events Committee<br />\n<em><span style="font-size:14px\;">Specifically Luncheons &amp\; Breakfasts</span></em></strong></span></span>
LOCATION:Fountain Valley Chamber Office 10055 Slater Ave.\, Ste. 250 Fountain Valley\, CA 92708
UID:e.2030.2359
SEQUENCE:3
DTSTAMP:20260425T221822Z
URL:http://business.fvchamber.com/events/details/chamber-events-committee-12-08-2015-2359
END:VEVENT

END:VCALENDAR
