BEGIN:VCALENDAR
VERSION:2.0
PRODID:-//ChamberMaster//Event Calendar 2.0//EN
METHOD:PUBLISH
X-PUBLISHED-TTL:P3D
REFRESH-INTERVAL:P3D
CALSCALE:GREGORIAN
BEGIN:VEVENT
DTSTART:20170607T230000Z
DTEND:20170608T000000Z
X-MICROSOFT-CDO-ALLDAYEVENT:FALSE
SUMMARY:Chamber Challenge Softball Meeting
DESCRIPTION:Chamber Challenge Softball Meeting
X-ALT-DESC;FMTTYPE=text/html:<span style="font-size:18px\;"><strong>Chamber Challenge Softball Meeting</strong></span>
LOCATION:Bartwood Construction 10840 Talbert Ave. Fountain Valley
UID:e.2030.4200
SEQUENCE:3
DTSTAMP:20260424T200624Z
URL:http://business.fvchamber.com/events/details/chamber-challenge-softball-meeting-4200
END:VEVENT

END:VCALENDAR
