BEGIN:VCALENDAR
VERSION:2.0
PRODID:-//ChamberMaster//Event Calendar 2.0//EN
METHOD:PUBLISH
X-PUBLISHED-TTL:P3D
REFRESH-INTERVAL:P3D
CALSCALE:GREGORIAN
BEGIN:VEVENT
DTSTART:20180521T200000Z
DTEND:20180521T210000Z
X-MICROSOFT-CDO-ALLDAYEVENT:FALSE
SUMMARY:Chamber Challenge Softball Committee Meeting
DESCRIPTION:Chamber Challenge Softball Committee Meeting
X-ALT-DESC;FMTTYPE=text/html:<span style="font-size:16px\;"><strong>Chamber Challenge Softball Committee Meeting</strong></span>
LOCATION:Lamppost Pizza 10130 Warner Ave. Fountain Valley
UID:e.2030.4802
SEQUENCE:3
DTSTAMP:20260424T021930Z
URL:http://business.fvchamber.com/events/details/chamber-challenge-softball-committee-meeting-4802
END:VEVENT

END:VCALENDAR
