BEGIN:VCALENDAR
VERSION:2.0
PRODID:-//ChamberMaster//Event Calendar 2.0//EN
METHOD:PUBLISH
X-PUBLISHED-TTL:P3D
REFRESH-INTERVAL:P3D
CALSCALE:GREGORIAN
BEGIN:VEVENT
DTSTART:20171005T233000Z
DTEND:20171006T013000Z
X-MICROSOFT-CDO-ALLDAYEVENT:FALSE
SUMMARY:Chamber Awareness Month City Open House
DESCRIPTION:FREE COMMUNITY EVENT\n\nFountain Valley Chamber of Commerce & the City of Fountain Valley\n\nBBQ & Open House\n\n  City Department Tables\n\n  Chamber Tables\n\n  Food Tastings from FV Restaurant Week participants
X-ALT-DESC;FMTTYPE=text/html:<strong><span style="font-size:14px\;">FREE COMMUNITY EVENT</span><br />\n<span style="font-size:16px\;"><em><span style="font-size:14px\;">Fountain Valley Chamber of Commerce &amp\; the City of Fountain Valley</span></em><br />\nBBQ &amp\; Open House<br />\n<em><span style="font-size:14px\;">&bull\; City Department Tables<br />\n&bull\; Chamber Tables<br />\n&bull\; Food Tastings from FV Restaurant Week participants</span></em></span></strong>
LOCATION:City of Fountain Valley Outside quad area 10200 Slater Ave. Fountain Valley
UID:e.2030.4205
SEQUENCE:3
DTSTAMP:20260424T125606Z
URL:http://business.fvchamber.com/events/details/chamber-awareness-month-city-open-house-4205
END:VEVENT

END:VCALENDAR
