BEGIN:VCALENDAR
VERSION:2.0
PRODID:-//ChamberMaster//Event Calendar 2.0//EN
METHOD:PUBLISH
X-PUBLISHED-TTL:P3D
REFRESH-INTERVAL:P3D
CALSCALE:GREGORIAN
BEGIN:VEVENT
DTSTART:20221201T200000Z
DTEND:20221201T210000Z
X-MICROSOFT-CDO-ALLDAYEVENT:FALSE
SUMMARY:Chamber 101 December
DESCRIPTION:Join us learn how to take full advantage of the Chamber's resources and make a plan to maximize your Chamber benefits and grow your business. This is also a great refresher course for long-term members.
X-ALT-DESC;FMTTYPE=text/html:<strong style="color: rgb(0\, 0\, 128)\; font-family: sans-serif\, Arial\, Verdana\, &quot\;Trebuchet MS&quot\;\; font-size: 13px\; background-color: rgb(255\, 255\, 255)\;"><span style="font-size: 14px\;">Join us learn how to take full advantage of the Chamber&#39\;s resources and make a plan to maximize your Chamber benefits and grow your business. This is also a great refresher course for long-term members.</span></strong>
LOCATION:Chamber Office Second Floor of the School District Building 10055 Slater Ave. Suite 250 Fountain Valley\, CA 92708
UID:e.2030.5872
SEQUENCE:3
DTSTAMP:20260420T071542Z
URL:http://business.fvchamber.com/events/details/chamber-101-december-5872
END:VEVENT

END:VCALENDAR
