BEGIN:VCALENDAR
VERSION:2.0
PRODID:-//ChamberMaster//Event Calendar 2.0//EN
METHOD:PUBLISH
X-PUBLISHED-TTL:P3D
REFRESH-INTERVAL:P3D
CALSCALE:GREGORIAN
BEGIN:VEVENT
DTSTART:20220203T020000Z
DTEND:20220203T033000Z
X-MICROSOFT-CDO-ALLDAYEVENT:FALSE
SUMMARY:Cash for Growth
DESCRIPTION:Cash is king. But the question is: cash for growth or growth for cash? To grow\, you need to maintain adequate cash flow. In this webinar\, you will learn how to understand your numbers through your P&L and build your financial projection to support your growth plan. This webinar will teach you how to accurately project out your growth\, model it\, and stress test it to make sure capital will work effectively with your growth plan. Numbers do not lie! In this webinar\, we will cover:\n\nCash\n\n\n	P & L Analysis\n	Financial Forecasting\n	Cash Flow Analysis\n	Funding Options
X-ALT-DESC;FMTTYPE=text/html:<p style="box-sizing: border-box\; margin: 0px 0px 20px\; color: rgb(97\, 97\, 97)\; font-size: 14px\; line-height: 1.8\; font-family: Roboto\, sans-serif\; background-color: rgb(255\, 255\, 255)\;">Cash is king. But the question is: cash for growth or growth for cash? To grow\, you need to maintain adequate cash flow. In this webinar\, you will learn how to understand your numbers through your P&amp\;L and build your financial projection to support your growth plan. This webinar will teach you how to accurately project out your growth\, model it\, and stress test it to make sure capital will work effectively with your growth plan. Numbers do not lie! In this webinar\, we will cover:</p>\n\n<p style="box-sizing: border-box\; margin: 0px 0px 20px\; color: rgb(97\, 97\, 97)\; font-size: 14px\; line-height: 1.8\; font-family: Roboto\, sans-serif\; background-color: rgb(255\, 255\, 255)\;">Cash</p>\n\n<ul class="has-small-font-size" style="box-sizing: border-box\; margin-top: 0px\; margin-bottom: 0px\; border: 0px\; outline: 0px\; font-size: 0.8125em\; vertical-align: baseline\; background: rgb(255\, 255\, 255)\; color: rgb(98\, 98\, 98)\; font-family: Montserrat\, -apple-system\, BlinkMacSystemFont\, &quot\;Segoe UI&quot\;\, Roboto\, sans-serif\;">\n	<li style="box-sizing: border-box\; margin-top: 0px\; margin-bottom: 0px\; border: 0px\; outline: 0px\; vertical-align: baseline\; background: transparent\;">P &amp\; L Analysis</li>\n	<li style="box-sizing: border-box\; margin-top: 0px\; margin-bottom: 0px\; border: 0px\; outline: 0px\; vertical-align: baseline\; background: transparent\;">Financial Forecasting</li>\n	<li style="box-sizing: border-box\; margin-top: 0px\; margin-bottom: 0px\; border: 0px\; outline: 0px\; vertical-align: baseline\; background: transparent\;">Cash Flow Analysis</li>\n	<li style="box-sizing: border-box\; margin-top: 0px\; margin-bottom: 0px\; border: 0px\; outline: 0px\; vertical-align: baseline\; background: transparent\;">Funding Options</li>\n</ul>\n
LOCATION:Zoom
UID:e.2030.5563
SEQUENCE:3
DTSTAMP:20260421T000835Z
URL:http://business.fvchamber.com/events/details/cash-for-growth-5563
END:VEVENT

END:VCALENDAR
