BEGIN:VCALENDAR
VERSION:2.0
PRODID:-//ChamberMaster//Event Calendar 2.0//EN
METHOD:PUBLISH
X-PUBLISHED-TTL:P3D
REFRESH-INTERVAL:P3D
CALSCALE:GREGORIAN
BEGIN:VEVENT
DTSTART:20170722T003000Z
DTEND:20170722T020000Z
X-MICROSOFT-CDO-ALLDAYEVENT:FALSE
SUMMARY:Carmela Ryan\, Realty One Group Ribbon Cutting
DESCRIPTION:Carmela Ryan\n\nRealty One Group\n\nRibbon Cutting
X-ALT-DESC;FMTTYPE=text/html:<strong><span style="font-size:16px\;">Carmela Ryan<br />\nRealty One Group</span><br />\n<em><span style="font-size:16px\;">Ribbon Cutting</span></em></strong>
LOCATION:Cafe & Te 9430 Warner Ave.\, #A (at Bushard) Fountain Valley
UID:e.2030.4167
SEQUENCE:3
DTSTAMP:20260424T172432Z
URL:http://business.fvchamber.com/events/details/carmela-ryan-realty-one-group-ribbon-cutting-4167
END:VEVENT

END:VCALENDAR
