BEGIN:VCALENDAR
VERSION:2.0
PRODID:-//ChamberMaster//Event Calendar 2.0//EN
METHOD:PUBLISH
X-PUBLISHED-TTL:P3D
REFRESH-INTERVAL:P3D
CALSCALE:GREGORIAN
BEGIN:VEVENT
DTSTART:20160121T013000Z
DTEND:20160121T033000Z
X-MICROSOFT-CDO-ALLDAYEVENT:FALSE
SUMMARY:Carmel Village Mixer
DESCRIPTION:Carmel Village Mixer
X-ALT-DESC;FMTTYPE=text/html:<span style="font-size:16px\;"><strong>Carmel Village Mixer</strong></span>
LOCATION:17077 San Mateo Street Fountain Valley\, CA 92708
UID:e.2030.2308
SEQUENCE:3
DTSTAMP:20260425T221731Z
URL:http://business.fvchamber.com/events/details/carmel-village-mixer-01-20-2016-2308
END:VEVENT

END:VCALENDAR
