BEGIN:VCALENDAR
VERSION:2.0
PRODID:-//ChamberMaster//Event Calendar 2.0//EN
METHOD:PUBLISH
X-PUBLISHED-TTL:P3D
REFRESH-INTERVAL:P3D
CALSCALE:GREGORIAN
BEGIN:VEVENT
DTSTART:20210925T170000Z
DTEND:20210925T203000Z
X-MICROSOFT-CDO-ALLDAYEVENT:FALSE
SUMMARY:Car Seat Safety Check Event- Fountain Valley Regional Hospital
DESCRIPTION:Join Fountain Valley Regional Hospital in learning how to keep your children safe in the car. The event will include:\n\n	Car seat safety check. Seats will be inspected for :\n	\n		Expiration\n		Manufacturer recalls\n		Profer fit of the seat for child\n	\n	\n	Child car safety education information\n	Meet hospital staff from our Women and Children's services
X-ALT-DESC;FMTTYPE=text/html:<span style="color:#0000FF\;"><span style="font-size:20px\;"><span style="font-family:verdana\;"><strong>Join Fountain Valley Regional Hospital in learning how to keep your children safe in the car. The event will include:</strong></span></span></span>\n<ul>\n	<li><span style="color:#0000FF\;"><span style="font-size:20px\;"><span style="font-family:verdana\;"><strong>Car seat safety check. Seats will be inspected for :</strong></span></span></span>\n	<ul>\n		<li><span style="color:#0000FF\;"><span style="font-size:20px\;"><span style="font-family:verdana\;"><strong>Expiration</strong></span></span></span></li>\n		<li><span style="color:#0000FF\;"><span style="font-size:20px\;"><span style="font-family:verdana\;"><strong>Manufacturer recalls</strong></span></span></span></li>\n		<li><span style="color:#0000FF\;"><span style="font-size:20px\;"><span style="font-family:verdana\;"><strong>Profer fit of the seat for child</strong></span></span></span></li>\n	</ul>\n	</li>\n	<li><span style="color:#0000FF\;"><span style="font-size:20px\;"><span style="font-family:verdana\;"><strong>Child car safety education information</strong></span></span></span></li>\n	<li><span style="color:#0000FF\;"><span style="font-size:20px\;"><span style="font-family:verdana\;"><strong>Meet hospital staff from our Women and Children&#39\;s services</strong></span></span></span></li>\n</ul>\n
LOCATION:Fountain Valley Regional Hospital- Main Parking Lot 17100 Euclid St.\, Fountain Valley\, CA 92708
UID:e.2030.5383
SEQUENCE:3
DTSTAMP:20260421T090256Z
URL:http://business.fvchamber.com/events/details/car-seat-safety-check-event-fountain-valley-regional-hospital-5383
END:VEVENT

END:VCALENDAR
