BEGIN:VCALENDAR
VERSION:2.0
PRODID:-//ChamberMaster//Event Calendar 2.0//EN
METHOD:PUBLISH
X-PUBLISHED-TTL:P3D
REFRESH-INTERVAL:P3D
CALSCALE:GREGORIAN
BEGIN:VEVENT
DTSTART:20170727T003000Z
DTEND:20170727T020000Z
X-MICROSOFT-CDO-ALLDAYEVENT:FALSE
SUMMARY:CANCELLED-The Renewed Company Ribbon Cutting
DESCRIPTION:The Renewed Company\n\nRibbon Cutting
X-ALT-DESC;FMTTYPE=text/html:<strong><span style="font-size:16px\;">The Renewed Company</span><br />\n<em><span style="font-size:16px\;">Ribbon Cutting</span></em></strong>
LOCATION:16045 Brookhurst Street (at Edinger) Fountain Valley
UID:e.2030.4203
SEQUENCE:3
DTSTAMP:20260424T172817Z
URL:http://business.fvchamber.com/events/details/cancelled-the-renewed-company-ribbon-cutting-4203
END:VEVENT

END:VCALENDAR
