BEGIN:VCALENDAR
VERSION:2.0
PRODID:-//ChamberMaster//Event Calendar 2.0//EN
METHOD:PUBLISH
X-PUBLISHED-TTL:P3D
REFRESH-INTERVAL:P3D
CALSCALE:GREGORIAN
BEGIN:VEVENT
DTSTART:20151008T140000Z
DTEND:20151008T150000Z
X-MICROSOFT-CDO-ALLDAYEVENT:FALSE
SUMMARY:CANCELLED-Rise & Shine FV Breakfast
DESCRIPTION:Rise & Shine Fountain Valley Breakfast\n\nNetwork & Learn Opportunity
X-ALT-DESC;FMTTYPE=text/html:<span style="font-size:14px\;"><span style="font-family: verdana\;"><strong>Rise &amp\; Shine Fountain Valley Breakfast<br />\n<span style="font-size:12px\;"><em>Network &amp\; Learn Opportunity</em></span></strong></span></span>
LOCATION:Ayres Hotel 17550 Brookhurst Street Fountain Valley
UID:e.2030.2162
SEQUENCE:3
DTSTAMP:20260426T012549Z
URL:http://business.fvchamber.com/events/details/cancelled-rise-shine-fv-breakfast-10-08-2015-2162
END:VEVENT

END:VCALENDAR
