BEGIN:VCALENDAR
VERSION:2.0
PRODID:-//ChamberMaster//Event Calendar 2.0//EN
METHOD:PUBLISH
X-PUBLISHED-TTL:P3D
REFRESH-INTERVAL:P3D
CALSCALE:GREGORIAN
BEGIN:VEVENT
DTSTART:20160609T153000Z
DTEND:20160609T163000Z
X-MICROSOFT-CDO-ALLDAYEVENT:FALSE
SUMMARY:CANCELLED-Government Affairs Council
DESCRIPTION:Government Affairs Council
X-ALT-DESC;FMTTYPE=text/html:<span style="font-size:18px\;"><strong>Government Affairs Council</strong></span>
LOCATION:Carmel Village 17077 San Mateo Street Fountain Valley\, CA 92708
UID:e.2030.286
SEQUENCE:3
DTSTAMP:20260425T125643Z
URL:http://business.fvchamber.com/events/details/cancelled-government-affairs-council-06-09-2016-286
END:VEVENT

END:VCALENDAR
