BEGIN:VCALENDAR
VERSION:2.0
PRODID:-//ChamberMaster//Event Calendar 2.0//EN
METHOD:PUBLISH
X-PUBLISHED-TTL:P3D
REFRESH-INTERVAL:P3D
CALSCALE:GREGORIAN
BEGIN:VEVENT
DTSTART:20151210T163000Z
DTEND:20151210T173000Z
X-MICROSOFT-CDO-ALLDAYEVENT:FALSE
SUMMARY:CANCELLED-Government Affairs Committee
DESCRIPTION:
X-ALT-DESC;FMTTYPE=text/html:
LOCATION:Carmel Village 17077 San Mateo Fountain Valley\, CA 92708
UID:e.2030.280
SEQUENCE:3
DTSTAMP:20260425T222045Z
URL:http://business.fvchamber.com/events/details/cancelled-government-affairs-committee-12-10-2015-280
END:VEVENT

END:VCALENDAR
