BEGIN:VCALENDAR
VERSION:2.0
PRODID:-//ChamberMaster//Event Calendar 2.0//EN
METHOD:PUBLISH
X-PUBLISHED-TTL:P3D
REFRESH-INTERVAL:P3D
CALSCALE:GREGORIAN
BEGIN:VEVENT
DTSTART:20150813T153000Z
DTEND:20150813T163000Z
X-MICROSOFT-CDO-ALLDAYEVENT:FALSE
SUMMARY:CANCELLED-Government Affairs Committee
DESCRIPTION:
X-ALT-DESC;FMTTYPE=text/html:
LOCATION:Fountain Valley Chamber of Commerce 10055 Slater Ave.\, Ste. 250 Fountain Valley\, CA 92708
UID:e.2030.276
SEQUENCE:3
DTSTAMP:20260426T041841Z
URL:http://business.fvchamber.com/events/details/cancelled-government-affairs-committee-08-13-2015-276
END:VEVENT

END:VCALENDAR
