BEGIN:VCALENDAR
VERSION:2.0
PRODID:-//ChamberMaster//Event Calendar 2.0//EN
METHOD:PUBLISH
X-PUBLISHED-TTL:P3D
REFRESH-INTERVAL:P3D
CALSCALE:GREGORIAN
BEGIN:VEVENT
DTSTART:20161207T013000Z
DTEND:20161207T023000Z
X-MICROSOFT-CDO-ALLDAYEVENT:FALSE
SUMMARY:CANCELLED-Ambassador Meeting
DESCRIPTION:Ambassador Meeting
X-ALT-DESC;FMTTYPE=text/html:Ambassador Meeting
LOCATION:TBD
UID:e.2030.819
SEQUENCE:3
DTSTAMP:20260425T034210Z
URL:http://business.fvchamber.com/events/details/cancelled-ambassador-meeting-819
END:VEVENT

END:VCALENDAR
