BEGIN:VCALENDAR
VERSION:2.0
PRODID:-//ChamberMaster//Event Calendar 2.0//EN
METHOD:PUBLISH
X-PUBLISHED-TTL:P3D
REFRESH-INTERVAL:P3D
CALSCALE:GREGORIAN
BEGIN:VEVENT
DTSTART:20171201T020000Z
DTEND:20171201T050000Z
X-MICROSOFT-CDO-ALLDAYEVENT:FALSE
SUMMARY:Cambalache Grill Argentine & Italian Cuisine Grand Opening / Ribbon Cutting
DESCRIPTION:Cambalache Grill Argentine & Italian Cuisine\n\nGrand Opening / Ribbon Cutting
X-ALT-DESC;FMTTYPE=text/html:<span style="font-size:16px\;"><strong>Cambalache Grill Argentine &amp\; Italian Cuisine</strong></span><br />\n<span style="font-size:14px\;"><em><strong>Grand Opening / Ribbon Cutting</strong></em></span><br />\n&nbsp\;
LOCATION:8780 Warner Avenue\, #15 Fountain Valley
UID:e.2030.4232
SEQUENCE:3
DTSTAMP:20260424T125735Z
URL:http://business.fvchamber.com/events/details/cambalache-grill-argentine-italian-cuisine-grand-opening-ribbon-cutting-4232
END:VEVENT

END:VCALENDAR
