BEGIN:VCALENDAR
VERSION:2.0
PRODID:-//ChamberMaster//Event Calendar 2.0//EN
METHOD:PUBLISH
X-PUBLISHED-TTL:P3D
REFRESH-INTERVAL:P3D
CALSCALE:GREGORIAN
BEGIN:VEVENT
DTSTART:20200318T200000Z
DTEND:20200318T220000Z
X-MICROSOFT-CDO-ALLDAYEVENT:FALSE
SUMMARY:California Competes Tax Credit Presentation by GO-Biz
DESCRIPTION:FREE Member Event...\n\nDon't Miss Out On Tax Credits For Your Business\nDo you know California is offering at least $71.8 million in tax credits this upcoming application period? The Governor's Office of Business and Economic Development will be available in your community for a free two-hour workshop to explain how the California Competes Tax Credit program can help your business. This program is available to businesses of any industry\, size\, or location that want to move to or stay and grow in California. Join the 1\,043 California businesses that have been awarded over $1 billion in tax credits since the California Competes Tax Credit program started in 2014.
X-ALT-DESC;FMTTYPE=text/html:<h2 style="color:rgb(30\, 10\, 60)\;font-family:Neue Plak\, -apple-system\, BlinkMacSystemFont\, Roboto\, Helvetica Neue\, Helvetica\, Tahoma\, Arial\, sans-serif\;font-size:17px\;font-variant-numeric:normal\;font-variant-east-asian:normal\;font-weight:600\;letter-spacing:0.5px\;line-height:21px\;padding:0px\;"><span style="padding-top:0px\;"><span style="font-size:16px\;"><strong><span style="color:#008080\;">FREE Member Event...</span></strong></span><br />\n<u>Don&#39\;t Miss Out On Tax Credits For Your Business</u></span></h2>\n<span style="font-weight:700\;padding-top:0px\;">Do you know California is offering at least $71.8 million in tax credits this upcoming application period?</span> The Governor&#39\;s Office of Business and Economic Development will be available in your community for a free two-hour workshop to explain how the <span style="font-weight:700\;padding-top:0px\;">California Competes Tax Credit</span> program can help your business. This program is available to businesses of any industry\, size\, or location that want to move to or stay and grow in California. Join the 1\,043 California businesses that have been awarded over $1 billion in tax credits since the <span style="font-weight:700\;">California Competes Tax Credit</span> program started in 2014.&nbsp\;
LOCATION:1 Banting Irvine\, CA 92618
UID:e.2030.5301
SEQUENCE:3
DTSTAMP:20260422T162009Z
URL:http://business.fvchamber.com/events/details/california-competes-tax-credit-presentation-by-go-biz-5301
END:VEVENT

END:VCALENDAR
