BEGIN:VCALENDAR
VERSION:2.0
PRODID:-//ChamberMaster//Event Calendar 2.0//EN
METHOD:PUBLISH
X-PUBLISHED-TTL:P3D
REFRESH-INTERVAL:P3D
CALSCALE:GREGORIAN
BEGIN:VEVENT
DTSTART:20160310T010000Z
DTEND:20160310T030000Z
X-MICROSOFT-CDO-ALLDAYEVENT:FALSE
SUMMARY:Cafe& Te Ribbon Cutting
DESCRIPTION:Cafe& Te Ribbon Cutting
X-ALT-DESC;FMTTYPE=text/html:<span style="font-size:18px\;"><strong>Cafe&amp\; Te Ribbon Cutting</strong></span>
LOCATION:9430 Warner Avenue Fountain Valley
UID:e.2030.2799
SEQUENCE:3
DTSTAMP:20260425T172553Z
URL:http://business.fvchamber.com/events/details/cafe-te-ribbon-cutting-03-09-2016-2799
END:VEVENT

END:VCALENDAR
