BEGIN:VCALENDAR
VERSION:2.0
PRODID:-//ChamberMaster//Event Calendar 2.0//EN
METHOD:PUBLISH
X-PUBLISHED-TTL:P3D
REFRESH-INTERVAL:P3D
CALSCALE:GREGORIAN
BEGIN:VEVENT
DTSTART:20200304T200000Z
DTEND:20200304T213000Z
X-MICROSOFT-CDO-ALLDAYEVENT:FALSE
SUMMARY:Business Tax Workshop
DESCRIPTION:Free Member Event ....\n\nTopics to be covered in this session are the (QBID) Qualified Business Tax Deductions\, business vehicle miles deduction using the standard mileage rate or actual costs\, local transportation and travel deductions\, office in home deduction\, section 179 depreciation and bonus depreciation deduction\, repairs vs improvements\,  and MORE.\n\n\n\nRegister for free\, using the link below:\n\nhttps://santaanadistrictsbdc.ecenterdirect.com/events/6404
X-ALT-DESC;FMTTYPE=text/html:<strong><span style="font-family: arial\;"><em><span style="color: rgb(0\, 128\, 128)\;"><span style="font-size: 18px\;">Free Member Event ....</span></span></em></span><br />\n<span style="font-size:14px\;"><span style="color:#4B0082\;">Topics to be covered in this session are the (QBID) Qualified Business Tax Deductions\,&nbsp\;<span style="font-family: &quot\;open sans&quot\;\, &quot\;arial narrow&quot\;\; background-color: rgb(245\, 245\, 245)\;">business vehicle miles deduction using the standard&nbsp\;mileage rate or actual costs\, local transportation and travel deductions\, office in home deduction\, section 179 depreciation and bonus depreciation deduction\, repairs vs improvements\,&nbsp\;</span><strong> </strong>and MORE.</span></span></strong><br />\n<br />\n<span style="font-size:14px\;">Register for free\, using the link below:</span><br />\n<a href="https://santaanadistrictsbdc.ecenterdirect.com/events/6404">https://santaanadistrictsbdc.ecenterdirect.com/events/6404</a><br />\n<br />\n&nbsp\;
LOCATION:America's SBDC - OC/IE Network The Digital Media Center 1300 S. Bristol Street Santa Ana\, CA 92704
UID:e.2030.5295
SEQUENCE:3
DTSTAMP:20260422T161447Z
URL:http://business.fvchamber.com/events/details/business-tax-workshop-5295
END:VEVENT

END:VCALENDAR
