BEGIN:VCALENDAR
VERSION:2.0
PRODID:-//ChamberMaster//Event Calendar 2.0//EN
METHOD:PUBLISH
X-PUBLISHED-TTL:P3D
REFRESH-INTERVAL:P3D
CALSCALE:GREGORIAN
BEGIN:VEVENT
DTSTART:20160210T170000Z
DTEND:20160210T180000Z
X-MICROSOFT-CDO-ALLDAYEVENT:FALSE
SUMMARY:Business & Leadership Awards Meeting
DESCRIPTION:Business & Leadership Awards Meeting
X-ALT-DESC;FMTTYPE=text/html:<strong><span style="font-size:18px\;">Business &amp\; Leadership Awards Meeting</span></strong>
LOCATION:Fountain Valley Chamber of Commerce 10055 Slater Ave.\, #250 Fountain Valley\, CA 92708
UID:e.2030.2662
SEQUENCE:3
DTSTAMP:20260425T190236Z
URL:http://business.fvchamber.com/events/details/business-leadership-awards-meeting-02-10-2016-2662
END:VEVENT

END:VCALENDAR
