BEGIN:VCALENDAR
VERSION:2.0
PRODID:-//ChamberMaster//Event Calendar 2.0//EN
METHOD:PUBLISH
X-PUBLISHED-TTL:P3D
REFRESH-INTERVAL:P3D
CALSCALE:GREGORIAN
BEGIN:VEVENT
DTSTART:20181107T220000Z
DTEND:20181107T230000Z
X-MICROSOFT-CDO-ALLDAYEVENT:FALSE
SUMMARY:Business & Leadership Awards for 2018 Committee Meeting
DESCRIPTION:Business & Leadership Awards Committee Meeting
X-ALT-DESC;FMTTYPE=text/html:<span style="font-size:16px\;"><strong>Business &amp\; Leadership Awards Committee Meeting</strong></span>
LOCATION:Fountain Valley Chamber of Commerce 10055 Slater Ave. #250 Fountain Valley
UID:e.2030.4953
SEQUENCE:3
DTSTAMP:20260423T161738Z
URL:http://business.fvchamber.com/events/details/business-leadership-awards-for-2018-committee-meeting-4953
END:VEVENT

END:VCALENDAR
