BEGIN:VCALENDAR
VERSION:2.0
PRODID:-//ChamberMaster//Event Calendar 2.0//EN
METHOD:PUBLISH
X-PUBLISHED-TTL:P3D
REFRESH-INTERVAL:P3D
CALSCALE:GREGORIAN
BEGIN:VEVENT
DTSTART:20180228T010000Z
DTEND:20180228T050000Z
X-MICROSOFT-CDO-ALLDAYEVENT:FALSE
SUMMARY:Business & Leadership Awards for 2017
DESCRIPTION:Business & Leadership Awards for 2017
X-ALT-DESC;FMTTYPE=text/html:<span style="font-size: 16px\;"><b>Business &amp\; Leadership Awards for 2017</b></span>
LOCATION:Mile Square Golf Course Banquet Room 10401 Warner Ave. Fountain Valley
UID:e.2030.4022
SEQUENCE:3
DTSTAMP:20260424T051442Z
URL:http://business.fvchamber.com/events/details/business-leadership-awards-for-2017-4022
END:VEVENT

END:VCALENDAR
