BEGIN:VCALENDAR
VERSION:2.0
PRODID:-//ChamberMaster//Event Calendar 2.0//EN
METHOD:PUBLISH
X-PUBLISHED-TTL:P3D
REFRESH-INTERVAL:P3D
CALSCALE:GREGORIAN
BEGIN:VEVENT
DTSTART:20230721T000000Z
DTEND:20230721T030000Z
X-MICROSOFT-CDO-ALLDAYEVENT:FALSE
SUMMARY:Business Expo
DESCRIPTION:Come promote your business to thousands of people! Reserve your vendor booth TODAY!\n\n\n\nWhat's included with a Premium Add-on Package? Premium has priority of the first couple of rows\, an opportunity to share samples\, and includes a Space on our Bingo Board- Which will drive traffic directly to your booth!!\n\n\n\n* No Table or Chairs will be provided*\n\n\n\nIf you buy the premium package and want to take advantage of handing out FREE samples\, please contact the office before June 21st!!\n\n\n\nOnce signed up and paid\, we will send out information all about the event details
X-ALT-DESC;FMTTYPE=text/html:<span style="color:#000080\;"><span style="font-size:26px\;"><span style="font-family:tahoma\;"><strong>Come promote your business to thousands of people! Reserve your vendor booth TODAY!<br />\n<br />\nWhat&#39\;s included with a Premium Add-on Package? Premium has priority of the first couple of rows\, an opportunity to share samples\, and includes a Space on our Bingo Board- Which will drive traffic directly to your booth!!</strong></span></span></span><br />\n<br />\n<span style="font-size:14px\;">* No Table or Chairs will be provided*<br />\n<br />\n<span style="font-size:24px\;"><span style="color:#000080\;"><span style="font-family:tahoma\;"><strong>If you buy the premium package and want to take advantage of handing out FREE samples\, please contact the office before <u>June 21st!!</u><br />\n<br />\nOnce signed up and paid\, we will send out information all about the event details</strong></span></span></span></span>
LOCATION:Fountain Valley Sports Park 16400 Brookhurst St.\, Fountain Valley\, CA 92708
UID:e.2030.6181
SEQUENCE:3
DTSTAMP:20260419T210312Z
URL:http://business.fvchamber.com/events/details/business-expo-6181
END:VEVENT

END:VCALENDAR
