BEGIN:VCALENDAR
VERSION:2.0
PRODID:-//ChamberMaster//Event Calendar 2.0//EN
METHOD:PUBLISH
X-PUBLISHED-TTL:P3D
REFRESH-INTERVAL:P3D
CALSCALE:GREGORIAN
BEGIN:VEVENT
DTSTART:20180727T000000Z
DTEND:20180727T030000Z
X-MICROSOFT-CDO-ALLDAYEVENT:FALSE
SUMMARY:Business Expo
DESCRIPTION:Business Expo\n\nin conjunction with the City of FV's Concert in the Park Series\n\n(Non-Member Registration starts June 15\, 2018)
X-ALT-DESC;FMTTYPE=text/html:<span style="font-size:16px\;"><strong>Business Expo</strong></span><br />\n<span style="font-size:14px\;"><em><strong>in conjunction with the City of FV&#39\;s Concert in the Park Series</strong><br />\n<span style="font-size:16px\;">(Non-Member Registration starts June 15\, 2018)</span></em></span>
LOCATION:Fountain Valley Recreation Center & Sports Park 16400 Brookhurst St. Fountain Valley
UID:e.2030.4385
SEQUENCE:3
DTSTAMP:20260423T221110Z
URL:http://business.fvchamber.com/events/details/business-expo-4385
END:VEVENT

END:VCALENDAR
