BEGIN:VCALENDAR
VERSION:2.0
PRODID:-//ChamberMaster//Event Calendar 2.0//EN
METHOD:PUBLISH
X-PUBLISHED-TTL:P3D
REFRESH-INTERVAL:P3D
CALSCALE:GREGORIAN
BEGIN:VEVENT
DTSTART:20160729T000000Z
DTEND:20160729T030000Z
X-MICROSOFT-CDO-ALLDAYEVENT:FALSE
SUMMARY:Business Expo
DESCRIPTION:2016 Business Expo\n\nin conjunction with the City of Fountain Valley's Summer Concert in the Park Series
X-ALT-DESC;FMTTYPE=text/html:<strong><span style="font-size:18px\;"><span style="font-family:verdana\;">2016 Business Expo</span></span><br />\n<em><span style="font-size:12px\;"><span style="font-family:verdana\;">in conjunction with the City of Fountain Valley&#39\;s Summer Concert in the Park Series</span></span></em></strong>
LOCATION:Recreation Center Sports Park 16400 Brookhurst Street (at Heil) Fountain Valley
UID:e.2030.2810
SEQUENCE:3
DTSTAMP:20260425T125450Z
URL:http://business.fvchamber.com/events/details/business-expo-07-28-2016-2810
END:VEVENT

END:VCALENDAR
