BEGIN:VCALENDAR
VERSION:2.0
PRODID:-//ChamberMaster//Event Calendar 2.0//EN
METHOD:PUBLISH
X-PUBLISHED-TTL:P3D
REFRESH-INTERVAL:P3D
CALSCALE:GREGORIAN
BEGIN:VEVENT
DTSTART:20211019T180000Z
DTEND:20211019T190000Z
X-MICROSOFT-CDO-ALLDAYEVENT:FALSE
SUMMARY:Building Your Personal Brand- Why Everyone Needs One!
DESCRIPTION:Today building your personal brand is a must for next level success and exposure. We have to stand-out and make an impression or we will be lost in the crowd. In this workshop\, you'll learn how to make a stamp in your Industry and be seen as the expert whether you're a corporate executive or self-employed! It makes no difference in building your brand! You'll discover your what\, why\, and how\, what it means to show up and present your new brand\, and the do's and don'ts that are adding and hurting your professional brand and reputation. \n\nTOPICS COVERED:\n\n         Why your personal brand Is needed and different than a company brand.\n\n         How to build a strong brand that helps you leverage your success\n\n         The three elements to building your personal brand that everyone must know\n\n         Core values around your brand Where to leverage your professional brand and who should be involved\n\n         And more!
X-ALT-DESC;FMTTYPE=text/html:<p style="box-sizing: border-box\; margin-top: 0px\; margin-bottom: 1.75em\; widows: 3\; orphans: 3\; color: rgb(20\, 20\, 20)\; font-family: Montserrat\, sans-serif\; font-size: 16px\; background-color: rgb(255\, 255\, 255)\;">Today building your personal brand is a must for next level success and exposure. We have to stand-out and make an impression or we will be lost in the crowd. In this workshop\, you&#39\;ll learn how to make a stamp in your Industry and be seen as the expert whether you&#39\;re a corporate executive or self-employed! It makes no difference in building your brand! You&#39\;ll discover your what\, why\, and how\, what it means to show up and present your new brand\, and the do&#39\;s and don&#39\;ts that are adding and hurting your professional brand and reputation.&nbsp\;</p>\n\n<p style="box-sizing: border-box\; margin-top: 0px\; margin-bottom: 1.75em\; widows: 3\; orphans: 3\; color: rgb(20\, 20\, 20)\; font-family: Montserrat\, sans-serif\; font-size: 16px\; background-color: rgb(255\, 255\, 255)\;"><b style="box-sizing: border-box\; font-family: Arial\, sans-serif\; font-size: 10pt\;">TOPICS COVERED:</b></p>\n\n<p style="box-sizing: border-box\; margin-top: 0px\; margin-bottom: 1.75em\; widows: 3\; orphans: 3\; color: rgb(20\, 20\, 20)\; font-family: Montserrat\, sans-serif\; font-size: 16px\; background-color: rgb(255\, 255\, 255)\;">&middot\;&nbsp\;&nbsp\;&nbsp\;&nbsp\;&nbsp\;&nbsp\;&nbsp\;&nbsp\;Why your personal brand Is needed and different than a company brand.</p>\n\n<p style="box-sizing: border-box\; margin-top: 0px\; margin-bottom: 1.75em\; widows: 3\; orphans: 3\; color: rgb(20\, 20\, 20)\; font-family: Montserrat\, sans-serif\; font-size: 16px\; background-color: rgb(255\, 255\, 255)\;">&middot\;&nbsp\;&nbsp\;&nbsp\;&nbsp\;&nbsp\;&nbsp\;&nbsp\;&nbsp\;How to build a strong brand that helps you leverage your success</p>\n\n<p style="box-sizing: border-box\; margin-top: 0px\; margin-bottom: 1.75em\; widows: 3\; orphans: 3\; color: rgb(20\, 20\, 20)\; font-family: Montserrat\, sans-serif\; font-size: 16px\; background-color: rgb(255\, 255\, 255)\;">&middot\;&nbsp\;&nbsp\;&nbsp\;&nbsp\;&nbsp\;&nbsp\;&nbsp\;&nbsp\;The three elements to building your personal brand that everyone must know</p>\n\n<p style="box-sizing: border-box\; margin-top: 0px\; margin-bottom: 1.75em\; widows: 3\; orphans: 3\; color: rgb(20\, 20\, 20)\; font-family: Montserrat\, sans-serif\; font-size: 16px\; background-color: rgb(255\, 255\, 255)\;">&middot\;&nbsp\;&nbsp\;&nbsp\;&nbsp\;&nbsp\;&nbsp\;&nbsp\;&nbsp\;Core values around your brand Where to leverage your professional brand and who should be involved</p>\n\n<p style="box-sizing: border-box\; margin-top: 0px\; margin-bottom: 1.75em\; widows: 3\; orphans: 3\; color: rgb(20\, 20\, 20)\; font-family: Montserrat\, sans-serif\; font-size: 16px\; background-color: rgb(255\, 255\, 255)\;">&middot\;&nbsp\;&nbsp\;&nbsp\;&nbsp\;&nbsp\;&nbsp\;&nbsp\;&nbsp\;And more!</p>\n
LOCATION:Zoom
UID:e.2030.5398
SEQUENCE:3
DTSTAMP:20260421T065338Z
URL:http://business.fvchamber.com/events/details/building-your-personal-brand-why-everyone-needs-one-5398
END:VEVENT

END:VCALENDAR
