BEGIN:VCALENDAR
VERSION:2.0
PRODID:-//ChamberMaster//Event Calendar 2.0//EN
METHOD:PUBLISH
X-PUBLISHED-TTL:P3D
REFRESH-INTERVAL:P3D
CALSCALE:GREGORIAN
BEGIN:VEVENT
DTSTART:20170421T143000Z
DTEND:20170421T160000Z
X-MICROSOFT-CDO-ALLDAYEVENT:FALSE
SUMMARY:Breakfast Business Connection
DESCRIPTION:Breakfast Business Connection\n\nSponsored by Orange Coast Memorial Medical Center\n\n"Workforce Development Skill Gap"\n\npresented by Jocelin Jimenez\, Orange County Business Council\n\nCity of Fountain Valley Public Works Update
X-ALT-DESC;FMTTYPE=text/html:<span style="font-size:18px\;"><strong>Breakfast Business Connection</strong></span><br />\n<span style="font-size:16px\;"><em><strong><span style="font-size:14px\;">Sponsored by Orange Coast Memorial Medical Center</span><br />\n&quot\;Workforce Development Skill Gap&quot\;</strong><br />\n<span style="font-size:14px\;">presented by Jocelin Jimenez\, Orange County Business Council<br />\n<strong>City of Fountain Valley Public Works Update</strong></span></em></span><br />\n&nbsp\;
LOCATION:Ayres Hotel 17550 Brookhurst Street Fountain Valley
UID:e.2030.3881
SEQUENCE:3
DTSTAMP:20260424T213734Z
URL:http://business.fvchamber.com/events/details/breakfast-business-connection-3881
END:VEVENT

END:VCALENDAR
