BEGIN:VCALENDAR
VERSION:2.0
PRODID:-//ChamberMaster//Event Calendar 2.0//EN
METHOD:PUBLISH
X-PUBLISHED-TTL:P3D
REFRESH-INTERVAL:P3D
CALSCALE:GREGORIAN
BEGIN:VEVENT
DTSTART:20171020T143000Z
DTEND:20171020T160000Z
X-MICROSOFT-CDO-ALLDAYEVENT:FALSE
SUMMARY:Breakfast Business Connection
DESCRIPTION:Breakfast Business Connection\n\nA Financial State of Orange County\n\npresented by Eric Woolery\, Orange County Auditor Controller
X-ALT-DESC;FMTTYPE=text/html:<span style="font-size:18px\;"><strong>Breakfast Business Connection<br />\n<span style="font-size:16px\;">A Financial State of Orange County</span></strong><br />\n<em><span style="font-size:14px\;">presented by Eric Woolery\, Orange County Auditor Controller</span></em></span>
LOCATION:Ayres Hotel 17550 Brookhurst St. Fountain Valley
UID:e.2030.3890
SEQUENCE:3
DTSTAMP:20260424T125152Z
URL:http://business.fvchamber.com/events/details/breakfast-business-connection-10-20-2017-3890
END:VEVENT

END:VCALENDAR
