BEGIN:VCALENDAR
VERSION:2.0
PRODID:-//ChamberMaster//Event Calendar 2.0//EN
METHOD:PUBLISH
X-PUBLISHED-TTL:P3D
REFRESH-INTERVAL:P3D
CALSCALE:GREGORIAN
BEGIN:VEVENT
DTSTART:20181012T150000Z
DTEND:20181012T163000Z
X-MICROSOFT-CDO-ALLDAYEVENT:FALSE
SUMMARY:Breakfast Business Connection
DESCRIPTION:Breakfast Business Connection
X-ALT-DESC;FMTTYPE=text/html:<span style="font-size:18px\;"><strong>Breakfast Business Connection</strong></span>
LOCATION:Ayres Hotel 17550 Brookhurst St. Fountain Valley
UID:e.2030.3902
SEQUENCE:3
DTSTAMP:20260423T175106Z
URL:http://business.fvchamber.com/events/details/breakfast-business-connection-10-19-2018-3902
END:VEVENT

END:VCALENDAR
