BEGIN:VCALENDAR
VERSION:2.0
PRODID:-//ChamberMaster//Event Calendar 2.0//EN
METHOD:PUBLISH
X-PUBLISHED-TTL:P3D
REFRESH-INTERVAL:P3D
CALSCALE:GREGORIAN
BEGIN:VEVENT
DTSTART:20180921T150000Z
DTEND:20180921T163000Z
X-MICROSOFT-CDO-ALLDAYEVENT:FALSE
SUMMARY:Breakfast Business Connection
DESCRIPTION:Breakfast Business Connection\n\n"There's Money Available for Small Businesses"  presented by John Seelinger\, SCORE-a resource partner of the SBA\n\nSponsored by Theresa Simes Agency-Farmers Insurance
X-ALT-DESC;FMTTYPE=text/html:<p><span style="font-size:18px\;"><strong>Breakfast Business Connection</strong><br />\n<em><span style="font-size:14px\;">&quot\;There&#39\;s Money Available for Small Businesses&quot\;</span></em></span>&nbsp\;&nbsp\;presented by&nbsp\;John Seelinger\, SCORE-a resource partner of the SBA<br />\n<em>Sponsored by Theresa Simes Agency-Farmers Insurance</em><br />\n&nbsp\;</p>\n
LOCATION:Ayres Hotel 17550 Brookhurst St. Fountain Valley
UID:e.2030.3901
SEQUENCE:3
DTSTAMP:20260423T191117Z
URL:http://business.fvchamber.com/events/details/breakfast-business-connection-09-21-2018-3901
END:VEVENT

END:VCALENDAR
