BEGIN:VCALENDAR
VERSION:2.0
PRODID:-//ChamberMaster//Event Calendar 2.0//EN
METHOD:PUBLISH
X-PUBLISHED-TTL:P3D
REFRESH-INTERVAL:P3D
CALSCALE:GREGORIAN
BEGIN:VEVENT
DTSTART:20170915T143000Z
DTEND:20170915T160000Z
X-MICROSOFT-CDO-ALLDAYEVENT:FALSE
SUMMARY:Breakfast Business Connection
DESCRIPTION:Breakfast Business Connection\n\nCyber Security: A practical guide to Cyber Preparedness\n\nPresented by Brian Berger
X-ALT-DESC;FMTTYPE=text/html:<span style="font-size:18px\;"><strong>Breakfast Business Connection<br />\nCyber Security:&nbsp\;</strong>A practical guide to Cyber Preparedness</span><br />\nPresented by Brian Berger<br />\n<br />\n&nbsp\;
LOCATION:Ayres Hotel 17550 Brookhurst St. Fountain Valley
UID:e.2030.3889
SEQUENCE:3
DTSTAMP:20260424T142618Z
URL:http://business.fvchamber.com/events/details/breakfast-business-connection-09-15-2017-3889
END:VEVENT

END:VCALENDAR
