BEGIN:VCALENDAR
VERSION:2.0
PRODID:-//ChamberMaster//Event Calendar 2.0//EN
METHOD:PUBLISH
X-PUBLISHED-TTL:P3D
REFRESH-INTERVAL:P3D
CALSCALE:GREGORIAN
BEGIN:VEVENT
DTSTART:20160819T143000Z
DTEND:20160819T160000Z
X-MICROSOFT-CDO-ALLDAYEVENT:FALSE
SUMMARY:Breakfast Business Connection
DESCRIPTION:Breakfast Business Connection\n\nSponsored by Elwyn California\n\nFountain Valley City Council Update\n\nOrange County Transportation Authority\n\ninformational update on the 405 Expansion Project\n\npresented by Nicolette La Piana\, Community Outreach Specialist
X-ALT-DESC;FMTTYPE=text/html:<div><span style="font-size:18px\;"><strong>Breakfast Business Connection</strong><br />\n<span style="font-size:14px\;"><em>Sponsored by Elwyn California</em><br />\n<span style="font-size:12px\;">Fountain Valley City Council Update<br />\n<span style="font-size:16px\;"><strong>Orange County Transportation Authority<br />\n<em>informational update on the 405 Expansion Project</em></strong></span></span></span></span><br />\n<span style="font-size:14px\;"><em><font color="#000000" face="arial\, sans-serif"><span style="line-height: 21.3333px\;">presented by Nicolette La Piana\, Community Outreach Specialist</span></font></em></span></div>\n\n<div>&nbsp\;</div>\n
LOCATION:Please note the change in venue for August David L. Baker Golf Course Banquet Room 10410 Edinger Ave. Fountain Valley
UID:e.2030.2387
SEQUENCE:3
DTSTAMP:20260425T111517Z
URL:http://business.fvchamber.com/events/details/breakfast-business-connection-08-19-2016-2387
END:VEVENT

END:VCALENDAR
