BEGIN:VCALENDAR
VERSION:2.0
PRODID:-//ChamberMaster//Event Calendar 2.0//EN
METHOD:PUBLISH
X-PUBLISHED-TTL:P3D
REFRESH-INTERVAL:P3D
CALSCALE:GREGORIAN
BEGIN:VEVENT
DTSTART:20180817T150000Z
DTEND:20180817T163000Z
X-MICROSOFT-CDO-ALLDAYEVENT:FALSE
SUMMARY:Breakfast Business Connection
DESCRIPTION:Breakfast Business Connection\n\nMeet the Candidate Series\n\nU.S. Congress\, State Senate\, State Assembly\n\nConfirmed Attendance:\n\nCongressman Dana Rohrabacher (R)\n\nHarley Rouda\, U.S. Congress Candidate (D)\n\nTom Umberg\, State Senate Candidate (D)\n\nJosh Lowenthal\, State Assembly Candidate (D)
X-ALT-DESC;FMTTYPE=text/html:<span style="font-size:18px\;"><strong>Breakfast Business Connection<br />\n<em><span style="font-size:16px\;">Meet the Candidate Series</span></em></strong><br />\n<span style="font-size:14px\;">U.S. Congress\, State Senate\, State Assembly<br />\nConfirmed Attendance:<br />\nCongressman Dana Rohrabacher (R)</span></span><br />\n<span style="font-size: 14px\;">Harley Rouda\, U.S. Congress Candidate (D)</span><br />\n<span style="font-size: 18px\;"><span style="font-size: 14px\;">Tom Umberg\, State Senate Candidate (D)</span></span><br />\n<span style="font-size:18px\;"><span style="font-size:14px\;">Josh Lowenthal\, State Assembly Candidate (D)</span></span><br />\n&nbsp\;
LOCATION:Cambalache Grill Argentine & Italian Cuisine 8780 Warner Ave.\, #15 Fountain Valley
UID:e.2030.3900
SEQUENCE:3
DTSTAMP:20260423T203642Z
URL:http://business.fvchamber.com/events/details/breakfast-business-connection-08-17-2018-3900
END:VEVENT

END:VCALENDAR
